BEGIN:VCALENDAR
PRODID:NingEventWidget-v1
VERSION:2.0
METHOD:PUBLISH
BEGIN:VEVENT
UID:5167423:Event:300628
DTSTAMP:20260422T181529Z
SUMMARY:CHARIOTS OF FIRE FALL FEST CAR SHOW
DESCRIPTION:THE CLASSIC AUTO MALL MORGANTOWN IS THE LOCATION . REG. $1
 5. PLUS TWO NON-PERISHABLE FOOD ITEMS FOR THE FOOD BANK. 100 TROPHIES 
 AWARDED BY PEOPLES CHOICE BALLOTING. 20 CLASSES OF CARS,TRUCKS AND M.C
 .FREE ENTRANCE TO THE 400 CARS INSIDE . SPECTATORS WELCOME.AND FREE. B
 RING THE CLUB, THE FAMILY AND FRIENDS TO THIS ONE. OUR RETURN POLICY- 
 ATTEND ONE OF OUR CAR SHOWS AND YOU'LL RETURN AGAIN AND AGAIN. RAIN DA
 TE OCT. 1\n\nFor more information visit https://northeastwheelsevents.
 com/events/chariots-of-fire-fall-fest-car-show-2
DTSTART:20220917T140000Z
DTEND:20220917T190000Z
CATEGORIES:car, show
LOCATION:CLASSIC AUTO MALL MORGANTOWN,PA.
WEBSITE:http://6180 MORGANTOWN RD.  19543
URL:http://6180 MORGANTOWN RD.  19543
CONTACT:610-322-1622
ORGANIZER;CN="PASTOR LAWRENCE WEED":https://northeastwheelsevents.com/
 profile/PASTORLAWRENCEWEED
ATTACH;FMTTYPE="image/jpeg":https://storage.ning.com/topology/rest/1.0
 /file/get/10475187255?profile=original
ATTENDEE;ROLE=REQ-PARTICIPANT;PARTSTAT=ACCEPTED;RSVP=TRUE;CN="PASTOR L
 AWRENCE WEED":https://northeastwheelsevents.com/profile/PASTORLAWRENCE
 WEED
END:VEVENT
END:VCALENDAR
