BEGIN:VCALENDAR
PRODID:NingEventWidget-v1
VERSION:2.0
METHOD:PUBLISH
BEGIN:VEVENT
UID:5167423:Event:146662
DTSTAMP:20260423T010214Z
SUMMARY:Checker Car and Cab Meet
DESCRIPTION:Annual convention and meet of the Checker Car Club. Severa
 l opportunities are available for the public to view Checker cars and 
 taxis converging on Kalamazoo from all over the United States.\nBell's
  Brewery - Kalamazoo (Thursday) Markin Glen Park - Kalamzoo (Thursday)
  Meijer Gardens - Grand Rapids (Friday)\nGilmore Car Museum - Hickory 
 Corners (Saturday)\n\nFor more information visit https://northeastwhee
 lsevents.com/events/checker-car-and-cab-meet
DTSTART:20170713T160000Z
DTEND:20170716T180000Z
CATEGORIES:annual, convention
LOCATION:Holiday Inn West - Kalamazoo MI
WEBSITE:http://www.checkerworld.org/2017---kalamazoo-stay-tuned
URL:http://www.checkerworld.org/2017---kalamazoo-stay-tuned
CONTACT:
ORGANIZER:Jim Garrison - Checker Car Club
ATTACH;FMTTYPE="image/jpeg":http://storage.ning.com/topology/rest/1.0/
 file/get/2284098725?profile=original
ATTENDEE;ROLE=REQ-PARTICIPANT;PARTSTAT=ACCEPTED;RSVP=TRUE;CN="George L
 aszlo":https://northeastwheelsevents.com/profile/GeorgeLaszlo
END:VEVENT
END:VCALENDAR
