BEGIN:VCALENDAR
PRODID:NingEventWidget-v1
VERSION:2.0
METHOD:PUBLISH
BEGIN:VEVENT
UID:5167423:Event:45865
DTSTAMP:20260424T205312Z
SUMMARY:Checker Car Show
DESCRIPTION:The Checker Car Club of America invites you to the most ex
 citing car show of the year. Nearly 50 vintage Checker Cabs, Cars and 
 Limousines will be on display at our free public event on Friday June 
 20, 2014 on Box Street in Greenpoint, Brooklyn.\n\nReturning to New Yo
 rk City after 20 years, Checker Car Club members will be on hand to sh
 ow and talk about their cars. The cabs, cars and limos are coming to t
 he Big Apple from states as far away as Wahington, Florida, Kentucky a
 nd Michigan. A dozen or so will be from the New York area.\n\nNew York
 ers and visitors will be able to relive fond memories of Checker taxi 
 rides whether going to the airport, attending a wedding or painting th
 e town with their friends. The show will be fun for the whole family. 
 Stroll among the cars while listening to live bands and enjoying a hot
  dog, popcorn or ice cream cone.\n\nBox Street is easy to reach from a
 lmost anywhere in the city. Take the G train to Greenpoint Avenue or t
 he 7 to Vernon/Jackson. Or, take the East River Ferry to India Street,
  Greenpoint. A ride on the B24, B32, B43 or B62 bus lines to Manhattan
  Avenue by Freeman Street will also get you there. Detailed directions
  are available  on our web site at www.checker2014.com.\n\nPlease use
  one of the internet map sites for directions by car or use your GPS.\
 n\nThe car show is on “rain or shine” and something that you will 
 never forget.\n\nFor more information visit https://northeastwheelseve
 nts.com/events/checker-car-show
DTSTART:20140620T190000Z
DTEND:20140621T003000Z
CATEGORIES:car, show
LOCATION:Northern end of Manhattan Avenue in Greenpoint, Brooklyn
WEBSITE:https://www.google.com/maps/place/Manhattan+Ave+%26+Box+St/@40
 .7372777,-73.9554177,17z/data=!3m1!4b1!4m2!3m1!1s0x89c2593c3c027e75:0x
 696162854dc73393
URL:https://www.google.com/maps/place/Manhattan+Ave+%26+Box+St/@40.737
 2777,-73.9554177,17z/data=!3m1!4b1!4m2!3m1!1s0x89c2593c3c027e75:0x6961
 62854dc73393
CONTACT:Please contact us via our web site
ORGANIZER:Checker Car Club of America
ATTACH;FMTTYPE="image/jpeg":http://storage.ning.com/topology/rest/1.0/
 file/get/2284062060?profile=original
ATTENDEE;ROLE=REQ-PARTICIPANT;PARTSTAT=ACCEPTED;RSVP=TRUE;CN="George L
 aszlo":https://northeastwheelsevents.com/profile/GeorgeLaszlo
END:VEVENT
END:VCALENDAR
