BEGIN:VCALENDAR
PRODID:NingEventWidget-v1
VERSION:2.0
METHOD:PUBLISH
BEGIN:VEVENT
UID:5167423:Event:318263
DTSTAMP:20260421T214519Z
SUMMARY:Checkered Flag Auto Center Annual Car Show
DESCRIPTION:(Saturday) 12-5pmLocation: 36793 State Rt 37 Theresa,NY 13
 691\n\nFor more information visit https://northeastwheelsevents.com/ev
 ents/checkered-flag-auto-center-annual-car-show
DTSTART:20230805T160000Z
DTEND:20230805T210000Z
CATEGORIES:car, show
LOCATION:36793 State Rt 37
WEBSITE:https://www.facebook.com/CheckeredFlagAuto
URL:https://www.facebook.com/CheckeredFlagAuto
CONTACT:
ORGANIZER:Checkered Flag Auto
ATTACH;FMTTYPE="image/jpeg":
ATTENDEE;ROLE=REQ-PARTICIPANT;PARTSTAT=ACCEPTED;RSVP=TRUE;CN=CrazyJerr
 y:https://northeastwheelsevents.com/profile/CrazyJerry
END:VEVENT
END:VCALENDAR
