BEGIN:VCALENDAR
PRODID:NingEventWidget-v1
VERSION:2.0
METHOD:PUBLISH
BEGIN:VEVENT
UID:5167423:Event:243294
DTSTAMP:20260422T214624Z
SUMMARY:Chester County Antique Car Club
DESCRIPTION:Chester County Antique Car Club Car Show and Valley Forge 
 Fustand Club\nKimberton Fire Grounds\nKimberton, PA \nMay 26, 2019\nC
 ash Drawings, Raffles, Door Prizes\nVendors Welcome, Car Coral ($15.00
 )\n\n\nFor more information visit https://northeastwheelsevents.com/ev
 ents/chester-county-antique-car-club
DTSTART:20190526T130000Z
DTEND:20190526T190000Z
CATEGORIES:car, show, -, 40th, annual
LOCATION:Kimberton Fire Company Fair Grounds
WEBSITE:Http://chescoacc.com
URL:Http://chescoacc.com
CONTACT:Dave Shingle 610-269-6337 not after 9PM
ORGANIZER:Chester County Car Club and Valley Forge Mustang
ATTACH;FMTTYPE="image/jpeg":
ATTENDEE;ROLE=REQ-PARTICIPANT;PARTSTAT=ACCEPTED;RSVP=TRUE;CN="D Summer
 s":https://northeastwheelsevents.com/profile/DSummers
END:VEVENT
END:VCALENDAR
