BEGIN:VCALENDAR
PRODID:NingEventWidget-v1
VERSION:2.0
METHOD:PUBLISH
BEGIN:VEVENT
UID:5167423:Event:260699
DTSTAMP:20260425T200809Z
SUMMARY:Chester County car show CANCELLED
DESCRIPTION:Sunday, May 24th 9-3.   Antiques, classics, street rods,
  cycles.  Food court, DJ, vendors, cash prizes.  Rain or shine.Dash 
 plague for first 200 participants\n\nFor more information visit https:
 //northeastwheelsevents.com/events/chester-county-car-show
DTSTART:20200524T130000Z
DTEND:20200524T190000Z
CATEGORIES:car, show
LOCATION:Kimberton Fire Co Fairgrounds
WEBSITE:
URL:
CONTACT:484 872 8195
ORGANIZER:Chester County Antique Car Club
ATTACH;FMTTYPE="image/jpeg":
ATTENDEE;ROLE=REQ-PARTICIPANT;PARTSTAT=ACCEPTED;RSVP=TRUE;CN="Jeanie C
 assidy":https://northeastwheelsevents.com/profile/JeanieCassidy
END:VEVENT
END:VCALENDAR
