BEGIN:VCALENDAR
PRODID:NingEventWidget-v1
VERSION:2.0
METHOD:PUBLISH
BEGIN:VEVENT
UID:5167423:Event:46077
DTSTAMP:20260422T215200Z
SUMMARY:Chevrolet/GMC/Olds/Isuzu S-Series Truck Meet
DESCRIPTION:This event is hosted by the Central PA S-Series Owner's Gr
 oup on Facebook.   Visit the event page or join the group page for mo
 re info.\n\nhttps://www.facebook.com/groups/1396816727256198/\n\nFor m
 ore information visit https://northeastwheelsevents.com/events/chevrol
 et-gmc-olds-isuzu-s-series-truck-meet
DTSTART:20140531T203000Z
DTEND:20140531T230000Z
CATEGORIES:gm, s-series, truck, meet
LOCATION:Park Inn by Radisson
WEBSITE:https://www.facebook.com/events/1421014204836928/
URL:https://www.facebook.com/events/1421014204836928/
CONTACT:
ORGANIZER;CN="Peter Matesevac":https://northeastwheelsevents.com/profi
 le/PeterMatesevac
ATTACH;FMTTYPE="image/jpeg":http://storage.ning.com/topology/rest/1.0/
 file/get/2097698445?profile=original
ATTENDEE;ROLE=REQ-PARTICIPANT;PARTSTAT=ACCEPTED;RSVP=TRUE;CN="Peter Ma
 tesevac":https://northeastwheelsevents.com/profile/PeterMatesevac
END:VEVENT
END:VCALENDAR
