BEGIN:VCALENDAR
PRODID:NingEventWidget-v1
VERSION:2.0
METHOD:PUBLISH
BEGIN:VEVENT
UID:5167423:Event:62854
DTSTAMP:20260423T121901Z
SUMMARY:Chocolate Covered February
DESCRIPTION:Known year-round as The Sweetest Place on Earth, Hershey i
 s celebrating February as a special month with a town-wide celebration
  of all things chocolate. Here at the AACA Museum, guests can enjoy ou
 r 1920s gallery depicting downtown Hershey in this iconic decade, visi
 t one of the rare Hershey’s Kissmobile Cruisers, and participate in 
 a Hershey’s Kisses Scavenger Hunt throughout the Museum. Come on out
  to Hershey, visit the AACA Museum, and take part in the many chocola
 te festivities happening in February!\n\nFor more information visit ht
 tps://northeastwheelsevents.com/events/chocolate-covered-february
DTSTART:20150201T140000Z
DTEND:20150228T220000Z
CATEGORIES:community
LOCATION:AACA Museum
WEBSITE:http://www.aacamuseum.org/chocolate-covered-february-5/
URL:http://www.aacamuseum.org/chocolate-covered-february-5/
CONTACT:717-566-7100
ORGANIZER;CN="AACA Museum":https://northeastwheelsevents.com/profile/A
 ACAMuseum553
ATTACH;FMTTYPE="image/jpeg":http://storage.ning.com/topology/rest/1.0/
 file/get/2284065206?profile=original
ATTENDEE;ROLE=REQ-PARTICIPANT;PARTSTAT=ACCEPTED;RSVP=TRUE;CN="AACA Mus
 eum":https://northeastwheelsevents.com/profile/AACAMuseum553
END:VEVENT
END:VCALENDAR
