BEGIN:VCALENDAR
PRODID:NingEventWidget-v1
VERSION:2.0
METHOD:PUBLISH
BEGIN:VEVENT
UID:5167423:Event:334810
DTSTAMP:20260422T211817Z
SUMMARY:Christine's Car Show (w/ CHIRSTINE '83 on 35mm)
DESCRIPTION:On Sunday, September 29th, The Mahoning Drive-In Theater a
 nd Regular Car Reviews present CHRISTINE’S CAR SHOW, a night dedicat
 ed to steel and chrome gone bad, with a unique car show and 35mm scree
 ning of John Carpenters film adaptation of Stephen King’s CHRISTINE 
 (1983)!She was born bad. Plain and Simple. Somewhere deep on a darkene
 d assembly line. Christine. A ’58 Plymouth Fury possessed by Hell. S
 he’s taken control of her teenage owner, Arnie. Her previous owner i
 s not alive to warn him. And now she’s steering straight for the one
  person in her way. Arnie’s girlfriend, Leigh. The other woman.How d
 o you K*ll something that can’t possibly be alive?It’s a classic 8
 0’s “hot rod from Hell” pulse-pounder, starring Keith Gordon, Jo
 hn Stockwell, and Aledandra Paul, with Harry Dean Stanton, Kelly Prest
 on and Roberts Blossom, featuring a killer pedal-to-the-metal synth so
 undtrack by director John Carpenter!Join us as we host an afternoon ca
 r show, courtesy of Regular Car Reviews, in advance of screening the u
 ltimate “Bad To The Bone” automotive horror film. Come early to se
 e some one of a kind beauties!Gates open at 5pm, showtime at sundown!G
 eneral Ticket: $10 (per person). General+Extended: $20 (per person)Kid
 s General Ticket: $5 (under 13yrs). Kids General+Extended Pass: $15 (u
 nder 13yrs)*extended pass allows you to extend your stay until noon th
 e following day.See MahoningDIT.com for FAQ.All events are Rain or Shi
 ne. No refunds or transfers.\r\nFor more info. mahoningdriveintheater@
 gmail.com\n\nFor more information visit https://northeastwheelsevents.
 com/events/christine-s-car-show-w-chirstine-83-on-35mm
DTSTART:20240929T210000Z
DTEND:20240930T020000Z
CATEGORIES:carshow, drive-in
LOCATION:The Mahoning Drive-In Theater
WEBSITE:https://allevents.in/lehighton/christines-car-show-w-chirstine
 -83-on-35mm/200026974153254
URL:https://allevents.in/lehighton/christines-car-show-w-chirstine-83-
 on-35mm/200026974153254
CONTACT:484-613-1314
ORGANIZER:Regular Car Reviews/The Mahoning Drive-In Theater
ATTACH;FMTTYPE="image/jpeg":https://storage.ning.com/topology/rest/1.0
 /file/get/12972220667?profile=original
ATTENDEE;ROLE=REQ-PARTICIPANT;PARTSTAT=ACCEPTED;RSVP=TRUE;CN="William 
 Bruce":https://northeastwheelsevents.com/profile/WilliamBruce
END:VEVENT
END:VCALENDAR
