BEGIN:VCALENDAR
PRODID:NingEventWidget-v1
VERSION:2.0
METHOD:PUBLISH
BEGIN:VEVENT
UID:5167423:Event:249343
DTSTAMP:20260419T182521Z
SUMMARY:CHRISTMAS IN JULY SALE
DESCRIPTION:Christmas in July Sales, July 23rd-28th at the PA National
  Fire Museum, 1820 N. 4th Street, Harrisburg, PA.\nTake an additional 
 10% off the sticker price on all firefighter Santas, ornaments, nutcra
 ckers, firehouses, and SELECT toys, figurines, models and collectibles
 .\n\nEXCLUSIONS: books, clothing, Code 3 models, patches and decals.\n
 \nFor more information visit https://northeastwheelsevents.com/events/
 christmas-in-july-sale
DTSTART:20190723T140000Z
DTEND:20190728T200000Z
CATEGORIES:gift, shop, sales
LOCATION:PA National Fire Museum
WEBSITE:http://www.pnfm.org
URL:http://www.pnfm.org
CONTACT:7172328915
ORGANIZER;CN="John Wagner":https://northeastwheelsevents.com/profile/J
 ohnWagner
ATTACH;FMTTYPE="image/jpeg":https://storage.ning.com/topology/rest/1.0
 /file/get/3283187908?profile=original
ATTENDEE;ROLE=REQ-PARTICIPANT;PARTSTAT=ACCEPTED;RSVP=TRUE;CN="John Wag
 ner":https://northeastwheelsevents.com/profile/JohnWagner
END:VEVENT
END:VCALENDAR
