BEGIN:VCALENDAR
PRODID:NingEventWidget-v1
VERSION:2.0
METHOD:PUBLISH
BEGIN:VEVENT
UID:5167423:Event:249375
DTSTAMP:20260419T225147Z
SUMMARY:Christmas in July
DESCRIPTION:Southern Maryland Blue Crabs vs. Lancaster Barnstormers Ga
 me time 1 PM Car show prior to game from 9:30 to 11:30. To participate
  in Car Show purchase 2 tickets to the game at  https://groupmatics.ev
 ents/event/Christmasjuly and bring one new, unwrapped toy for Toys For
  Tots.  Toys for Tots representatives will be on hand to collect toys.
  Proceeds from ticket sales will be donated to the Lancaster County Ch
 ildren’s Alliance a child advocacy group. Park in a designated lot 
 with security present during game.\n\nFor more information visit https
 ://northeastwheelsevents.com/events/christmas-in-july
DTSTART:20190728T133000Z
DTEND:20190728T200000Z
CATEGORIES:car, show, and, baseball, game
LOCATION:Clipper Magazine Stadium
WEBSITE:https://www.lancasterbarnstormers.com/stadium-info/
URL:https://www.lancasterbarnstormers.com/stadium-info/
CONTACT:717-509-4487
ORGANIZER:Sherri Mowday
ATTACH;FMTTYPE="image/jpeg":https://storage.ning.com/topology/rest/1.0
 /file/get/3322080729?profile=original
ATTENDEE;ROLE=REQ-PARTICIPANT;PARTSTAT=ACCEPTED;RSVP=TRUE;CN="Ken Hosh
 auer":https://northeastwheelsevents.com/profile/KenHoshauer990
END:VEVENT
END:VCALENDAR
