BEGIN:VCALENDAR
PRODID:NingEventWidget-v1
VERSION:2.0
METHOD:PUBLISH
BEGIN:VEVENT
UID:5167423:Event:172814
DTSTAMP:20260424T101108Z
SUMMARY:CHROME AND ICE CAR SHOW
DESCRIPTION:3RD ANNUAL indoor car show DORT EVENT CENTER,FLINT,MI incl
 udes ramchargers drag racing team cars and original members signing au
 tographs,many rare and unusual vehicles.\n\nFor more information visit
  https://northeastwheelsevents.com/events/chrome-and-ice-car-show
DTSTART:20180209T050000Z
DTEND:20180211T020000Z
CATEGORIES:fundraiser
LOCATION:dort federal event center
WEBSITE:http://chromeandice.org
URL:http://chromeandice.org
CONTACT:810-252-3344
ORGANIZER:chrome and ice car show committee
ATTACH;FMTTYPE="image/jpeg":
ATTENDEE;ROLE=REQ-PARTICIPANT;PARTSTAT=ACCEPTED;RSVP=TRUE;CN="jeffery 
 anderson":https://northeastwheelsevents.com/profile/jefferyanderson
END:VEVENT
END:VCALENDAR
