BEGIN:VCALENDAR
PRODID:NingEventWidget-v1
VERSION:2.0
METHOD:PUBLISH
BEGIN:VEVENT
UID:5167423:Event:21454
DTSTAMP:20260424T100423Z
SUMMARY:Cigar lady at Carlisle Ford Nationals
DESCRIPTION:Relax, take a seat and smoke a fine cigar in the Cigar lad
 y lounge at SPACE F 97 at Carlisle fairgrounds.   Cigar lady events\
 n\nFor more information visit https://northeastwheelsevents.com/events
 /cigar-lady-at-carlisle-ford-nationals
DTSTART:20130607T040000Z
DTEND:20130610T035900Z
CATEGORIES:cars, and, cigars
LOCATION:Carlisle Fairgrounds
WEBSITE:http://www.carlisleevents.com
URL:http://www.carlisleevents.com
CONTACT:6109090097
ORGANIZER;CN="DONNA OPUSZYNSKI":https://northeastwheelsevents.com/prof
 ile/DONNAOPUSZYNSKI
ATTACH;FMTTYPE="image/jpeg":http://storage.ning.com/topology/rest/1.0/
 file/get/2284049612?profile=original
ATTENDEE;ROLE=REQ-PARTICIPANT;PARTSTAT=ACCEPTED;RSVP=TRUE;CN="DONNA OP
 USZYNSKI":https://northeastwheelsevents.com/profile/DONNAOPUSZYNSKI
END:VEVENT
END:VCALENDAR
