BEGIN:VCALENDAR
PRODID:NingEventWidget-v1
VERSION:2.0
METHOD:PUBLISH
BEGIN:VEVENT
UID:5167423:Event:330066
DTSTAMP:20260420T104810Z
SUMMARY:Classic and Cruisers on Hamilton
DESCRIPTION:Returns for a 6th year!\nCruise to Downtown Allentown - Re
 gistration & Staging from 8AM-11AM at America on Wheels\nEnjoy a Free 
 self-guided tour of Museum, Open house at RB Collection\n9:30AM-11AM P
 olice Escorted Cruise to car show area\n11AM-4:30PM Enjoy hundreds of 
 cars, food, brotherhood & nostalgia\n4:30PM-5PM Award ceremony\n5PM Po
 lice Escort to the Ritz\nJudging-Over 75 awards, 200 dash plaques, spe
 cial trophy categories and a best in show will be judged and awarded!\
 nAlso enjoy food and music at the festivities while taking in the city
 scape of Downtown Allentown.\nCars will be judged on the following:\nE
 xterior, Interior, Engine Compartment, Wheels & Tires & Overall Attent
 ion to Detail\nRegister Today! www.allentownpa.gov/cruisinghamilton\nP
 re-registration per vehicle is $20.00, Day of show registration is $25
 .00\nAll proceeds benefit the Allentown Police Department, Honor Guard
  & America on Wheels\nRAIN DATE AUGUST 18, 2024\n\n\nFor more informat
 ion visit https://northeastwheelsevents.com/events/classic-and-cruiser
 s-on-hamilton
DTSTART:20240811T120000Z
DTEND:20240811T210000Z
CATEGORIES:classical, cars
LOCATION:AMERICA ON WHEELS MUSEUM
WEBSITE:http://WWW.AMERICAONWHEELS.ORG
URL:http://WWW.AMERICAONWHEELS.ORG
CONTACT:6104324200
ORGANIZER;CN="Linda Merkel":https://northeastwheelsevents.com/profile/
 LindaMerkel
ATTACH;FMTTYPE="image/jpeg":
ATTENDEE;ROLE=REQ-PARTICIPANT;PARTSTAT=ACCEPTED;RSVP=TRUE;CN="Linda Me
 rkel":https://northeastwheelsevents.com/profile/LindaMerkel
END:VEVENT
END:VCALENDAR
