BEGIN:VCALENDAR
PRODID:NingEventWidget-v1
VERSION:2.0
METHOD:PUBLISH
BEGIN:VEVENT
UID:5167423:Event:321392
DTSTAMP:20260422T051345Z
SUMMARY:Classic Auto Mall Mid-week Cruise In
DESCRIPTION:Bring any make or model out on Wednesday, September 20th f
 rom 4pm-8pm for a casual cruise-in as winter approaches!  Pop's Grill
  will be on hand selling burgers etc. and the mall will be open!  Tel
 l your friends and car clubs...we'd love to see a good turn out as the
  season comes close to an end!\n\nFor more information visit https://n
 ortheastwheelsevents.com/events/classic-auto-mall-mid-week-cruise-in
DTSTART:20230920T200000Z
DTEND:20230921T000000Z
CATEGORIES:cruise, night
LOCATION:Classic Auto Mall - Morgantown
WEBSITE:http://www.classicautomall.com
URL:http://www.classicautomall.com
CONTACT:888-227-0914
ORGANIZER:Ed Aharonian
ATTACH;FMTTYPE="image/jpeg":
ATTENDEE;ROLE=REQ-PARTICIPANT;PARTSTAT=ACCEPTED;RSVP=TRUE;CN="Steven S
 affier":https://northeastwheelsevents.com/profile/StevenSaffier
END:VEVENT
END:VCALENDAR
