BEGIN:VCALENDAR
PRODID:NingEventWidget-v1
VERSION:2.0
METHOD:PUBLISH
BEGIN:VEVENT
UID:5167423:Event:296942
DTSTAMP:20260425T221041Z
SUMMARY:Classic Auto Mall Radio Show and Podcast
DESCRIPTION:Our new show has been on the air for nearly 3 months!!  T
 his week's show will feature the incomparable Michael Furman - world-r
 enowned automotive photographer. Tune in live by going to www.America
 sWebRadio.com at 9am on Saturday morning or come by Classic Auto Mall 
 and watch the show live!  After Saturday, the show will be available 
 at that website and on podcast platforms (Spotify, Apple, etc.)\n\nFor
  more information visit https://northeastwheelsevents.com/events/class
 ic-auto-mall-radio-show-and-podcast-1
DTSTART:20211218T140000Z
DTEND:20211218T150000Z
CATEGORIES:automotive, talk, show
LOCATION:On air and in Morgantown PA!
WEBSITE:http://www.americaswebradio.com
URL:http://www.americaswebradio.com
CONTACT:
ORGANIZER:CarSmarts Media
ATTACH;FMTTYPE="image/jpeg":https://storage.ning.com/topology/rest/1.0
 /file/get/9910228086?profile=original
ATTENDEE;ROLE=REQ-PARTICIPANT;PARTSTAT=ACCEPTED;RSVP=TRUE;CN="Steven S
 affier":https://northeastwheelsevents.com/profile/StevenSaffier
END:VEVENT
END:VCALENDAR
