BEGIN:VCALENDAR
PRODID:NingEventWidget-v1
VERSION:2.0
METHOD:PUBLISH
BEGIN:VEVENT
UID:5167423:Event:335596
DTSTAMP:20260422T181723Z
SUMMARY:Classic Car Cruise Night at Green Olive Diner
DESCRIPTION:Happy Spring! Classic Car Cruise Nights every Thursday May
  to October, at Green Olive Diner, weather permitting! 05:00 pm to 09
 :00 pm.\r\n443 South Broad Street Meriden CT\r\n\r\nWeekly food specia
 ls for car show participants, music, prizes, 50/50 raffle and awards.\
 r\n\r\nFamily friendly extensive food options, kids menu, gluten free 
 food options.\r\nhttp://greenolivediner.com/;\r\n\r\nOpened to all mak
 es and model vehicles. No cut off year.\r\n\r\nNo burn outs respect th
 e lot.\n\nFor more information visit https://northeastwheelsevents.com
 /events/classic-car-cruise-night-at-green-olive-diner-5
DTSTART:20250530T210000Z
DTEND:20250531T010000Z
CATEGORIES:cruise-in
LOCATION:Green Olive Diner
WEBSITE:https://allevents.in/meriden/classic-car-cruise-night-at-green
 -olive-diner/80002729336523
URL:https://allevents.in/meriden/classic-car-cruise-night-at-green-oli
 ve-diner/80002729336523
CONTACT:203-379-0927
ORGANIZER:RAD STALLIONS
ATTACH;FMTTYPE="image/jpeg":https://storage.ning.com/topology/rest/1.0
 /file/get/12976011054?profile=original
ATTENDEE;ROLE=REQ-PARTICIPANT;PARTSTAT=ACCEPTED;RSVP=TRUE;CN="William 
 Bruce":https://northeastwheelsevents.com/profile/WilliamBruce
END:VEVENT
END:VCALENDAR
