BEGIN:VCALENDAR
PRODID:NingEventWidget-v1
VERSION:2.0
METHOD:PUBLISH
BEGIN:VEVENT
UID:5167423:Event:347465
DTSTAMP:20260425T225301Z
SUMMARY:Classic Farm Tractor Indoor Show
DESCRIPTION:Bringing neighbors together to grow, share and cultivate t
 he tractor culture.\n\nFor more information visit https://northeastwhe
 elsevents.com/events/classic-farm-tractor-indoor-show
DTSTART:20260220T130000Z
DTEND:20260221T210000Z
CATEGORIES:tractor, show
LOCATION:Lebanon Expo Center
WEBSITE:https://classictractors.com/?fbclid=IwY2xjawPH1OJleHRuA2FlbQIx
 MABicmlkETFuRWhUcVVCaXdxVEJXc2s0c3J0YwZhcHBfaWQQMjIyMDM5MTc4ODIwMDg5Mg
 ABHqIabhftgske-Dkoag07wE9hJ4vKGrYBmNGG4IMMb6jMm8DliGIbVYCMCHyF_aem_ib7
 2RCbdKSp3Ff89f1jk5g
URL:https://classictractors.com/?fbclid=IwY2xjawPH1OJleHRuA2FlbQIxMABi
 cmlkETFuRWhUcVVCaXdxVEJXc2s0c3J0YwZhcHBfaWQQMjIyMDM5MTc4ODIwMDg5MgABHq
 Iabhftgske-Dkoag07wE9hJ4vKGrYBmNGG4IMMb6jMm8DliGIbVYCMCHyF_aem_ib72RCb
 dKSp3Ff89f1jk5g
CONTACT:800 888-8979
ORGANIZER:Classic Farm Tractors
ATTACH;FMTTYPE="image/jpeg":https://storage.ning.com/topology/rest/1.0
 /file/get/31052668263?profile=original
ATTENDEE;ROLE=REQ-PARTICIPANT;PARTSTAT=ACCEPTED;RSVP=TRUE;CN="Car Show
 s Little Helper":https://northeastwheelsevents.com/profile/CarShowsLit
 tleHelper
ATTENDEE;ROLE=REQ-PARTICIPANT;PARTSTAT=TENTATIVE;RSVP=TRUE;CN="William
  E. Bruce":https://northeastwheelsevents.com/profile/WilliamEBruce
ATTENDEE;ROLE=REQ-PARTICIPANT;PARTSTAT=TENTATIVE;RSVP=TRUE;CN="William
  Bruce":https://northeastwheelsevents.com/profile/WilliamBruce
END:VEVENT
END:VCALENDAR
