BEGIN:VCALENDAR
PRODID:NingEventWidget-v1
VERSION:2.0
METHOD:PUBLISH
BEGIN:VEVENT
UID:5167423:Event:335509
DTSTAMP:20260423T135646Z
SUMMARY:Clean Culture Tri State Season Closer
DESCRIPTION:Tristate season closer spreading like wildfire! Don’t mi
 ss out this will be the craziest event of the year. We will have a bur
 nout pit in the middle of the show. Get tickets now at elitetuner.net 
 #elitetuner #bimmerinvasion\r\nPremier Event in collaboration with Jun
 k & East Coast Drift School. Car show, drifting, Competitions, Influen
 cers, Music, Vendors, Food Trucks, 2 Step, Contests, Awards & More!  I
 nfo: https://www.cleancultureevents.com/info  Tickets: https://www.c
 leancultureevents.com/tickets  Register \r\nShow: https://www.cleancu
 ltureevents.com/register \r\n\r\n\r\nCheck our Official Facebook page 
 of Clean Culture. Bringing the car scene together through love for any
 thing clean. We host car events across the country, big ones. \r\n\n\
 nFor more information visit https://northeastwheelsevents.com/events/c
 lean-culture-tri-state-season-closer
DTSTART:20241026T160000Z
DTEND:20241026T230000Z
CATEGORIES:carshow
LOCATION:Old Bridge Township Raceway Park,
WEBSITE:https://allevents.in/englishtown/clean-culture-tristate-season
 -closer/200027104894809
URL:https://allevents.in/englishtown/clean-culture-tristate-season-clo
 ser/200027104894809
CONTACT:732-446-7800
ORGANIZER:Clean Culture
ATTACH;FMTTYPE="image/jpeg":https://storage.ning.com/topology/rest/1.0
 /file/get/13028155476?profile=original
ATTENDEE;ROLE=REQ-PARTICIPANT;PARTSTAT=ACCEPTED;RSVP=TRUE;CN="William 
 Bruce":https://northeastwheelsevents.com/profile/WilliamBruce
END:VEVENT
END:VCALENDAR
