BEGIN:VCALENDAR
PRODID:NingEventWidget-v1
VERSION:2.0
METHOD:PUBLISH
BEGIN:VEVENT
UID:5167423:Event:316086
DTSTAMP:20260422T121310Z
SUMMARY:Cobble Beach Concours d’Elegance
DESCRIPTION:Beautiful and rarely seen automobiles will herald in a new
  tradition of distinction and elegance on the shores of Georgian Bay.\
 n\nThe Cobble Beach Golf Resort Community will host the 9th Cobble Bea
 ch Concours d'Elegance on Sunday, September 17, 2023. On Friday, the P
 articipants' Tour will take participants from Cobble Beach Resort thro
 ugh Grey & Bruce Counties. On Saturday, Cars & Coffee will take place.
  At the same time, Concours d'Lemons will fill the streets of downtown
  Owen Sound and the Roxy Theatre will be filled with Automotive Enthus
 iasts for our Automotive Seminars Saturday afternoon.\nThe main event,
  the Concours d'Elegance will be held on the 18th fairway of Cobble Be
 ach Golf Resort and Community on Sunday, September 17th. This extraord
 inary bayside course will host a rich assortment of international auto
 mobiles and distinguished guests, opening its gates at 9:00am with an 
 awards ceremony at approximately 2:00pm.\n\nFor more information visit
  https://northeastwheelsevents.com/events/cobble-beach-concours-d-eleg
 ance-5
DTSTART:20230917T130000Z
DTEND:20230917T210000Z
CATEGORIES:car, show
LOCATION:Cobble Beach Golf Resort
WEBSITE:https://www.cobblebeachconcours.com/
URL:https://www.cobblebeachconcours.com/
CONTACT:4163664820
ORGANIZER:Kathryn Cox
ATTACH;FMTTYPE="image/jpeg":https://storage.ning.com/topology/rest/1.0
 /file/get/12035690467?profile=original
ATTENDEE;ROLE=REQ-PARTICIPANT;PARTSTAT=ACCEPTED;RSVP=TRUE;CN="Jen Mann
 ering":https://northeastwheelsevents.com/profile/JenMannering
END:VEVENT
END:VCALENDAR
