BEGIN:VCALENDAR
PRODID:NingEventWidget-v1
VERSION:2.0
METHOD:PUBLISH
BEGIN:VEVENT
UID:5167423:Event:38199
DTSTAMP:20260423T162806Z
SUMMARY:Cars & Coffee
DESCRIPTION:I belong to a MINI Cooper Car Club.( CarlisleMINI) We are 
 hosting our first Coffee & Cars event. We would like to extend the inv
 itation to all cars not just MINI Coopers.\n\nWe are going to stand ar
 ound and be Motorheads for a couple hours. Spring is here and I know y
 our oldie but goodies and tired of sitting in the garage, just like we
  are tired of sitting inside. So bust them out, dust them off and come
  join us.\n\nAlso after we are done being Motorheads we are going to t
 ake a short 30 minute or so parade through the back roads and really s
 how off what we have.\n\nCome join us for Coffee and Car talk\n\nFor m
 ore information visit https://northeastwheelsevents.com/events/coffee-
 cars
DTSTART:20140323T140000Z
DTEND:20140323T154500Z
CATEGORIES:meet, up
LOCATION:McDonalds
WEBSITE:
URL:
CONTACT:Shawnmcnew@me.com
ORGANIZER;CN="Shawn McNew":https://northeastwheelsevents.com/profile/S
 hawnMcNew
ATTACH;FMTTYPE="image/jpeg":http://storage.ning.com/topology/rest/1.0/
 file/get/2284055884?profile=original
ATTENDEE;ROLE=REQ-PARTICIPANT;PARTSTAT=ACCEPTED;RSVP=TRUE;CN="Pamela H
 irschhorn":https://northeastwheelsevents.com/profile/PamelaHirschhorn
ATTENDEE;ROLE=REQ-PARTICIPANT;PARTSTAT=ACCEPTED;RSVP=TRUE;CN="Shawn Mc
 New":https://northeastwheelsevents.com/profile/ShawnMcNew
ATTENDEE;ROLE=REQ-PARTICIPANT;PARTSTAT=TENTATIVE;RSVP=TRUE;CN="Steve S
 mith":https://northeastwheelsevents.com/profile/SteveSmith
END:VEVENT
END:VCALENDAR
