BEGIN:VCALENDAR
PRODID:NingEventWidget-v1
VERSION:2.0
METHOD:PUBLISH
BEGIN:VEVENT
UID:5167423:Event:344796
DTSTAMP:20260423T215001Z
SUMMARY:Cohocton Fall Festival Car Show and Classic Snowmobile Show
DESCRIPTION:\r\nCohocton Fall Festival Car Show, all cars, bikes and t
 rucks welcome!  Vintage tractors and snowmobiles too!  Our 8th Annua
 l Vintage Snoemobile Show. See link for their entry prices! \r\n\r\nC
 ar show registration 8AM - 12PM, awards at 3PM. Registration is $15.00
  day of show. Dash plaques, door prizes and lots of vendors.\r\nOn Sun
 day we are hosting the Antique Tractor Show, 8th annual Fall Classic 
 Antique & Vintage Snowmobile Show and Fall Classic Car Show. Feature
 d sled is John Deere!\r\nThese exhibits will be held in the Wayland
 -Cohocton Elementary School parking lot on Park Ave. \r\nThere will a
 lso be a parade (Saturday at noon), live music in the gazebo, and free
  horse drawn wagon rides Saturday and Sunday afternoon! \r\n  Plent
 y of fun for the whole family! Check this page for Fall Foilage Festi
 val info.:  http://www.fallfoliagefestival.com/\r\nAbout us: Cruize'
 n Time! Our passion is cars, new cars .. old cars .. muscle cars, to r
 at rods, even in the process of being restored.\r\nWe organize Shows s
 o you can show off your favorite rides. https://cruize-n-time.com/ ;
 \r\nFor more information call or text 585-261-1270\n\nFor more inform
 ation visit https://northeastwheelsevents.com/events/cohocton-fall-fes
 tival-car-show-1
DTSTART:20251005T120000Z
DTEND:20251005T200000Z
CATEGORIES:carshow, festival
LOCATION:Wayland-Cohocton Elementary School parking lot
WEBSITE:http://www.fallfoliagefestival.com/fall-classic-antique-and-vi
 ntage-snowmobile-show.html
URL:http://www.fallfoliagefestival.com/fall-classic-antique-and-vintag
 e-snowmobile-show.html
CONTACT:570-764-2315
ORGANIZER:Cruize 'n Time
ATTACH;FMTTYPE="image/jpeg":https://storage.ning.com/topology/rest/1.0
 /file/get/12873313886?profile=original
ATTENDEE;ROLE=REQ-PARTICIPANT;PARTSTAT=ACCEPTED;RSVP=TRUE;CN="William 
 Bruce":https://northeastwheelsevents.com/profile/WilliamBruce
END:VEVENT
END:VCALENDAR
