BEGIN:VCALENDAR
PRODID:NingEventWidget-v1
VERSION:2.0
METHOD:PUBLISH
BEGIN:VEVENT
UID:5167423:Event:332897
DTSTAMP:20260419T084131Z
SUMMARY:Cohocton Fall Festival Car Show
DESCRIPTION:Cohocton Fall Festival Car Show, all cars, bikes and truck
 s welcome!  Vintage tractors and snowmobiles too!  See link for thei
 r entry prices! \r\nCar show registration 8AM - 12PM, awards at 3PM. 
 Registration is $15.00 day of show. Dash plaques, door prizes and lots
  of vendors.\r\nOn Sunday we are hosting the Antique Tractor Show, an
 nual Fall Classic Antique & Vintage Snowmobile Show and Fall Classi
 c Car Show. Featured sled is Yamaha!\r\nThese exhibits will be held 
 in the Wayland-Cohocton Elementary School parking lot on Park Ave. \
 r\nThere will also be a parade (Saturday at noon), live music in the g
 azebo, and free horse drawn wagon rides Saturday and Sunday afternoon
 ! \r\n  Plenty of fun for the whole family! Check this page for Fal
 l Foilage Festival info.:  http://www.fallfoliagefestival.com/\r\nAb
 out us: Cruize'n Time! Our passion is cars, new cars .. old cars .. mu
 scle cars, to rat rods, even in the process of being restored.\r\nWe o
 rganize Shows so you can show off your favorite rides. https://cruize
 -n-time.com/ ;\r\nFor more information call or text 585-261-1270\n\n
 For more information visit https://northeastwheelsevents.com/events/co
 hocton-fall-festival-car-show
DTSTART:20241006T120000Z
DTEND:20241006T200000Z
CATEGORIES:carshow, festival
LOCATION:Wayland-Cohocton Elementary School parking lot
WEBSITE:http://www.fallfoliagefestival.com/fall-classic-antique-and-vi
 ntage-snowmobile-show.html
URL:http://www.fallfoliagefestival.com/fall-classic-antique-and-vintag
 e-snowmobile-show.html
CONTACT:570-764-2315
ORGANIZER:Cruize 'n Time
ATTACH;FMTTYPE="image/jpeg":https://storage.ning.com/topology/rest/1.0
 /file/get/12873313886?profile=original
ATTENDEE;ROLE=REQ-PARTICIPANT;PARTSTAT=ACCEPTED;RSVP=TRUE;CN="William 
 Bruce":https://northeastwheelsevents.com/profile/WilliamBruce
END:VEVENT
END:VCALENDAR
