BEGIN:VCALENDAR
PRODID:NingEventWidget-v1
VERSION:2.0
METHOD:PUBLISH
BEGIN:VEVENT
UID:5167423:Event:341755
DTSTAMP:20260423T120731Z
SUMMARY:Cohocton's  Fall Foliage Festival
DESCRIPTION:The 60th Annual Fall Foliage Festival will be held October
  4-5, 2025!!!Â This year's theme: Diamond Jubilee Festival!Â \r\nDiamo
 nd Jubilee Property Decorating Contest---- Join the Fun and enter your
  property!\r\n\r\nVisit us on Facebook\r\n\r\nOn Sunday we are hosting
  the Antique Tractor Show,Â annualÂ Fall Classic Antique & Vintage Sno
 wmobile ShowÂ andÂ Fall Classic Car Show.Â \r\nThese exhibitsÂ will be
 Â held in theÂ Wayland-Cohocton Elementary School parking lot on Park 
 Ave.Â \r\nThere will also be a parade (Saturday at noon), live music i
 n the gazebo, and free horse drawn wagon ridesÂ Saturday and Sunday af
 ternoon!Â Â Plenty ofÂ fun for the whole family!\r\nIF YOU WOULD LIKE 
 MORE INFORMATION PLEASE CONTACTÂ JOHN AND TAMMY EVANS AT CRUIZE'N TIME
  CAR SHOWSÂ  585-519-7937Â or Email CRUIZENTIME@GMAIL.COM\r\nCohocton'
 s annual Fall Foliage Festival, which began in 1966,Â is a community e
 vent in whichÂ the residentsÂ of Cohocton and neighboring communitiesÂ
  gather to celebrate theÂ magnificent surrounding hills in all of its 
 colorful splendor.Â WeÂ haveÂ many arts,Â crafts, flea market,Â antiqu
 e and food vendors located on the Town and Village greens,Â 15 South M
 ain Street, Cohocton, New York.\r\nÂ This year come visit our 7th annu
 alÂ \"Fruits of the Press\" Wine tasting tent on Saturday and Sunday, 
 right on the festival grounds!Â \r\nÂ â€‹2025Â Schedule of Events-comi
 ng soon!\r\nPork Bellies BBQ will be at the show!!\n\nFor more informa
 tion visit https://northeastwheelsevents.com/events/cohocton-s-fall-fo
 liage-festival
DTSTART:20251005T220000Z
DTEND:20251005T230000Z
CATEGORIES:carshow, tractorpulls, snowmobileshow, tractorshow
LOCATION:Wayland-Cohocton Elementary School parking lot on Park Ave.
WEBSITE:http://www.fallfoliagefestival.com/fall-classic-car-show.html
URL:http://www.fallfoliagefestival.com/fall-classic-car-show.html
CONTACT:585-384-5792
ORGANIZER:CRUIZE'N TIME CAR SHOWS
ATTACH;FMTTYPE="image/jpeg":https://storage.ning.com/topology/rest/1.0
 /file/get/13650365688?profile=original
ATTENDEE;ROLE=REQ-PARTICIPANT;PARTSTAT=ACCEPTED;RSVP=TRUE;CN="William 
 Bruce":https://northeastwheelsevents.com/profile/WilliamBruce
END:VEVENT
END:VCALENDAR
