BEGIN:VCALENDAR
PRODID:NingEventWidget-v1
VERSION:2.0
METHOD:PUBLISH
BEGIN:VEVENT
UID:5167423:Event:192713
DTSTAMP:20260425T192613Z
SUMMARY:Collector Car Appreciation Day At Boyertown Museum of Historic
  Vehicles
DESCRIPTION:Come celebrate Collector Car Appreciation Day at The Boyer
 town Museum of Historic Vehicles!! Collector Car Appreciation Day is a
 n annual celebration to raise awareness of the role automotive restora
 tion and collection plays in American society. Here at the Boyertown M
 useum we feel this is very important!! To celebrate we are offering $2
  OFF ADMISSION for anyone who comes and visits us in their CLASSIC CAR
 ! FREE admission if you restored it yourself! Friday, July 13th only. 
 Make sure to snap a photo of your visit and tag us on Facebook!Faceboo
 k Event Link\n\nFor more information visit https://northeastwheelseven
 ts.com/events/collector-car-appreciation-day-at-boyertown-museum-of-hi
 storic
DTSTART:20180713T133000Z
DTEND:20180713T203000Z
CATEGORIES:car, show, collector
LOCATION:Boyertown Museum of Historic Vehicles
WEBSITE:https://goo.gl/maps/yN9Aj1kFA5S2
URL:https://goo.gl/maps/yN9Aj1kFA5S2
CONTACT:
ORGANIZER;CN="Jerry Keefer":https://northeastwheelsevents.com/profile/
 JerryKeefer
ATTACH;FMTTYPE="image/jpeg":http://storage.ning.com/topology/rest/1.0/
 file/get/2284108217?profile=original
ATTENDEE;ROLE=REQ-PARTICIPANT;PARTSTAT=ACCEPTED;RSVP=TRUE;CN="Jerry Ke
 efer":https://northeastwheelsevents.com/profile/JerryKeefer
END:VEVENT
END:VCALENDAR
