BEGIN:VCALENDAR
PRODID:NingEventWidget-v1
VERSION:2.0
METHOD:PUBLISH
BEGIN:VEVENT
UID:5167423:Event:172204
DTSTAMP:20260423T235850Z
SUMMARY:Collector Car Swap Meet
DESCRIPTION:Buy/Sell/Swap collector cars and collector car parts at th
 is large, 45th annual Baltimore area event, held at the Howard County 
 Fairgrounds, off I-70 exit for MD-32.  Event held rain or shine.  Fr
 ee admission and free parking.  Car corral.\nSponsored by the Chesape
 ake Region, Antique Automobile Club of America.\n\nFor more informatio
 n visit https://northeastwheelsevents.com/events/collector-car-swap-me
 et-1
DTSTART:20180310T120000Z
DTEND:20180310T200000Z
CATEGORIES:swap, meet, -, collector, car, parts
LOCATION:Howard County Fairgrounds
WEBSITE:http://www.chesapeakeaaca.org/
URL:http://www.chesapeakeaaca.org/
CONTACT:443-744-6338
ORGANIZER:Tom Young
ATTACH;FMTTYPE="image/jpeg":http://storage.ning.com/topology/rest/1.0/
 file/get/2284101101?profile=original
ATTENDEE;ROLE=REQ-PARTICIPANT;PARTSTAT=ACCEPTED;RSVP=TRUE;CN="Harold D
 iehl":https://northeastwheelsevents.com/profile/HaroldDiehl
END:VEVENT
END:VCALENDAR
