BEGIN:VCALENDAR
PRODID:NingEventWidget-v1
VERSION:2.0
METHOD:PUBLISH
BEGIN:VEVENT
UID:5167423:Event:218047
DTSTAMP:20260422T001619Z
SUMMARY:Comedies in the AACA Library Film Vault - Saturday Matinee 03
DESCRIPTION:The AACA Library will be hosting a series of 6 film presen
 tations during the colder months, showing off films we've digitized on
  Mike's Movie Machine. Our third session will feature comedies found i
 n our film vault. Four short films will be shown including two silent 
 films, one Laurel & Hardy classic and one Abbott and Costello masterpi
 ece. Snacks will be provided and the event is free and open to anyone 
 interested in attending.\n\nFor more information visit https://northea
 stwheelsevents.com/events/comedies-in-the-aaca-library-film-vault-satu
 rday-matinee-03
DTSTART:20190112T180000Z
DTEND:20190112T190000Z
CATEGORIES:film, festival
LOCATION:AACA Library &amp; Research Center
WEBSITE:http://aacalibary.org
URL:http://aacalibary.org
CONTACT:717-534-2082
ORGANIZER;CN="AACA Library":https://northeastwheelsevents.com/profile/
 AACALibrary
ATTACH;FMTTYPE="image/jpeg":http://storage.ning.com/topology/rest/1.0/
 file/get/2284112295?profile=original
ATTENDEE;ROLE=REQ-PARTICIPANT;PARTSTAT=ACCEPTED;RSVP=TRUE;CN="AACA Lib
 rary":https://northeastwheelsevents.com/profile/AACALibrary
END:VEVENT
END:VCALENDAR
