BEGIN:VCALENDAR
PRODID:NingEventWidget-v1
VERSION:2.0
METHOD:PUBLISH
BEGIN:VEVENT
UID:5167423:Event:62102
DTSTAMP:20260422T145838Z
SUMMARY:Community Weekend
DESCRIPTION: \nJoin us January 17, 18, and 19 for our annual Communit
 y Weekend here at the AACA Museum. Throughout the weekend, admission t
 o the Museum will be $7 to everyone, and we will be featuring a “CAR
 S” Scavenger Hunt throughout the Museum.\n\nFor more information vis
 it https://northeastwheelsevents.com/events/community-weekend
DTSTART:20150117T140000Z
DTEND:20150119T220000Z
CATEGORIES:community
LOCATION:AACA Museum
WEBSITE:http://www.aacamuseum.org/community-weekend/
URL:http://www.aacamuseum.org/community-weekend/
CONTACT:717-566-7100
ORGANIZER;CN="AACA Museum":https://northeastwheelsevents.com/profile/A
 ACAMuseum553
ATTACH;FMTTYPE="image/jpeg":http://storage.ning.com/topology/rest/1.0/
 file/get/2284065077?profile=original
ATTENDEE;ROLE=REQ-PARTICIPANT;PARTSTAT=ACCEPTED;RSVP=TRUE;CN="AACA Mus
 eum":https://northeastwheelsevents.com/profile/AACAMuseum553
END:VEVENT
END:VCALENDAR
