BEGIN:VCALENDAR
PRODID:NingEventWidget-v1
VERSION:2.0
METHOD:PUBLISH
BEGIN:VEVENT
UID:5167423:Event:315950
DTSTAMP:20260422T152714Z
SUMMARY:Concours d'Lemons
DESCRIPTION:The Concours d'Lemons will take place Saturday, September 
 16, 2023 in downtown Owen Sound's River District, on 1st Ave W, betwee
 n 8th St W and 9th St W.\n\nThe tongue-in-cheek Concours celebrating t
 he oddball, mundane and truly awful of the automotive world is part of
  Hagerty's partnership with the Cobble Beach Concours d’Elegance (ta
 king place the following day, Sunday, September 17th).\n\nThe Concours
  d'Lemons show honours aesthetic and technological underachievement an
 d the wacky folks who love it and we're bringing it to downtown Owen S
 ound. We invite you to come to the River District on Saturday to view 
 these wacky, weird and wild automobiles! The downtown will be ripe wit
 h only the best lemons!\n\nFor more information visit https://northeas
 twheelsevents.com/events/concours-d-lemons
DTSTART:20230916T153000Z
DTEND:20230916T200000Z
CATEGORIES:car, show, fundraiser, lemons, cars
LOCATION:River District
WEBSITE:https://www.cobblebeachconcours.com/
URL:https://www.cobblebeachconcours.com/
CONTACT:4163664820
ORGANIZER;CN="Jen Mannering":https://northeastwheelsevents.com/profile
 /JenMannering
ATTACH;FMTTYPE="image/jpeg":https://storage.ning.com/topology/rest/1.0
 /file/get/12035851858?profile=original
ATTENDEE;ROLE=REQ-PARTICIPANT;PARTSTAT=ACCEPTED;RSVP=TRUE;CN="Jen Mann
 ering":https://northeastwheelsevents.com/profile/JenMannering
END:VEVENT
END:VCALENDAR
