BEGIN:VCALENDAR
PRODID:NingEventWidget-v1
VERSION:2.0
METHOD:PUBLISH
BEGIN:VEVENT
UID:5167423:Event:150544
DTSTAMP:20260423T030524Z
SUMMARY:Cone Killer Classic 12 Presented By: Central PA Region SCCA
DESCRIPTION:\n\nCone Killer Classic 12 will be July 8th and 9th, 2017 
 at Mid-State Airport with a setup day on July 7th.  This event has al
 ways been a great time with friends that you may not have seen for a w
 hile a long with a little smack talking about the car that is beating 
 you.\n\n\"HIGHLIGHTS OF CKC\"\n\n\nFree Event T-Shirt guarantee for al
 l 2-day competitors registered by June 16th (http://www.scca-cpr.com/c
 onekiller12)\nDaily and Weekend Awards\nCourse Design:  Ron Dotts & C
 hris Paveglio\nShirt & Logo Design:  Chris Paveglio\nProfessional Pho
 tography:  Nathan Peterson\nFood Available for Purchase (CASH ONLY): 
  AM Breakfast by the Potalivo Family, Lunch by Food For Thought\n50/5
 0 & Raffle each day\nTech Aviation Flight School:  Win an introducto
 ry flight lesson!!! (chances each day for 'clean' runs)\n\nCone Killer
  12 registration is OPEN so register NOW!!!!  \nhttp://www.scca-cpr.c
 om/conekiller12  Jenn Moten\nCone Killer Classic 12 Event Chair\nE-Mai
 l:  jmoten@themotens.com\nPhone:  814.321.4190\nhttp://www.scca-cpr.
 com\n\n\n\n\n\n\n\n\n\n \n\n\nFor more information visit https://north
 eastwheelsevents.com/events/cone-killer-classic-12-presented-by-centra
 l-pa-region-scca
DTSTART:20170708T120000Z
DTEND:20170709T120000Z
CATEGORIES:autocross
LOCATION:Mid-State Regional Airport
WEBSITE:http://www.scca-cpr.com/conekiller12
URL:http://www.scca-cpr.com/conekiller12
CONTACT:814-321-4190
ORGANIZER;CN="Jennifer Moten":https://northeastwheelsevents.com/profil
 e/JenniferMoten
ATTACH;FMTTYPE="image/jpeg":http://storage.ning.com/topology/rest/1.0/
 file/get/2284098796?profile=original
ATTENDEE;ROLE=REQ-PARTICIPANT;PARTSTAT=ACCEPTED;RSVP=TRUE;CN="Jennifer
  Moten":https://northeastwheelsevents.com/profile/JenniferMoten
END:VEVENT
END:VCALENDAR
