BEGIN:VCALENDAR
PRODID:NingEventWidget-v1
VERSION:2.0
METHOD:PUBLISH
BEGIN:VEVENT
UID:5167423:Event:45264
DTSTAMP:20260422T231514Z
SUMMARY:Conshohocken Car Show
DESCRIPTION:\n\nFor more information visit https://northeastwheelseven
 ts.com/events/conshohocken-car-show
DTSTART:20140607T130000Z
DTEND:20140607T190000Z
CATEGORIES:car, show
LOCATION:Fayette Street Conshohocken PA 19428
WEBSITE:http://ConshohockenMayorsSpecialEvents
URL:http://ConshohockenMayorsSpecialEvents
CONTACT:610-825-7072
ORGANIZER:Brian Coll
ATTACH;FMTTYPE="image/jpeg":http://storage.ning.com/topology/rest/1.0/
 file/get/2284061144?profile=original
ATTENDEE;ROLE=REQ-PARTICIPANT;PARTSTAT=ACCEPTED;RSVP=TRUE;CN="Donna Co
 ll":https://northeastwheelsevents.com/profile/DonnaColl
END:VEVENT
END:VCALENDAR
