BEGIN:VCALENDAR
PRODID:NingEventWidget-v1
VERSION:2.0
METHOD:PUBLISH
BEGIN:VEVENT
UID:5167423:Event:20857
DTSTAMP:20260424T032115Z
SUMMARY:Cool Cars In The School Yard
DESCRIPTION:The Lions Club of Willow Grove's 33rd annual vehicle show,
  open to all motor vehicles. Awards: Top 50 cars/trucks and Top 5 moto
 rcycles selected by popular vote; Best of Show in Stock (the Magee Mem
 orial), Custom and Motorcycles selected by Lions Club Committee. Food 
 and soft drinks available. $100 club participation award. 50/50 drawi
 ng. Funds raised at this show benefit the Lions Club scholarship progr
 am and support our works of charity for the visually-impaired.\n\nFor 
 more information visit https://northeastwheelsevents.com/events/cool-c
 ars-in-the-school-yard-1
DTSTART:20130608T183000Z
DTEND:20130609T000000Z
CATEGORIES:fundraiser
LOCATION:Upper Moreland Township School Campus
WEBSITE:http://www.coolcarsintheschoolyard.weebly.com
URL:http://www.coolcarsintheschoolyard.weebly.com
CONTACT:215-327-7283
ORGANIZER:The Lions Club of Willow Grove
ATTACH;FMTTYPE="image/jpeg":http://storage.ning.com/topology/rest/1.0/
 file/get/2284049729?profile=original
ATTENDEE;ROLE=REQ-PARTICIPANT;PARTSTAT=ACCEPTED;RSVP=TRUE;CN="Don Shie
 lds":https://northeastwheelsevents.com/profile/DonShields
END:VEVENT
END:VCALENDAR
