BEGIN:VCALENDAR
PRODID:NingEventWidget-v1
VERSION:2.0
METHOD:PUBLISH
BEGIN:VEVENT
UID:5167423:Event:326258
DTSTAMP:20260425T084328Z
SUMMARY:Cool Cars in the School Yard
DESCRIPTION:Visit our 44th annual vehicle show, open to all years, all
  makes and all models. Registration opens at 2:30 PM, show time 4:00 p
 m-7:00 PM, trophies awarded at 7:00. Show benefits the Willow Grove Li
 ons Club's scholarship program and our ongoing works of charity for th
 e visually-impaired. See our flyer for details.\n\nFor more informatio
 n visit https://northeastwheelsevents.com/events/cool-cars-in-the-scho
 ol-yard-11
DTSTART:20240608T183000Z
DTEND:20240608T233000Z
CATEGORIES:fundraiser
LOCATION:Upper Moreland Township School Campus
WEBSITE:https://www.google.com/maps/place/4000+Orangemans+Rd.=Hatboro
URL:https://www.google.com/maps/place/4000+Orangemans+Rd.=Hatboro
CONTACT:215-407-8764
ORGANIZER;CN="Don Shields":https://northeastwheelsevents.com/profile/D
 onShields
ATTACH;FMTTYPE="image/jpeg":https://storage.ning.com/topology/rest/1.0
 /file/get/12424035453?profile=original
ATTENDEE;ROLE=REQ-PARTICIPANT;PARTSTAT=ACCEPTED;RSVP=TRUE;CN="Don Shie
 lds":https://northeastwheelsevents.com/profile/DonShields
END:VEVENT
END:VCALENDAR
