BEGIN:VCALENDAR
PRODID:NingEventWidget-v1
VERSION:2.0
METHOD:PUBLISH
BEGIN:VEVENT
UID:5167423:Event:348048
DTSTAMP:20260425T104336Z
SUMMARY:Cool Cars in the School Yard
DESCRIPTION:The Willow Grove Lions Club and Down the Road Cruisers Clu
 b invite you to our 46th annual car show, Cool Cars in the School Yard
 , on Saturday, June 13th. Rain or shine. Registration opens 2:30 PM, s
 how starts at 4:00 PM, awards at 7:00 PM. Open to all motor vehicles. 
 Pre-registration by June 5th, $15.00, day of show $20.00. All show pro
 fits benefit our scholarship fund, assistance for the sight and hearin
 g-impaired, and other works of charity. Visit our website, https://e-c
 lubhouse.org/sites/willow_grove/ for complete details.\nShow Flyer WGL
 C%20Cool%20Cars%20Flyer%202026.jpg\n\nFor more information visit https
 ://northeastwheelsevents.com/events/cool-cars-in-the-school-yard-13
DTSTART:20260613T183000Z
DTEND:20260613T233000Z
CATEGORIES:fundraiser, car, show
LOCATION:Upper Moreland School Campus
WEBSITE:
URL:
CONTACT:215-407-8764
ORGANIZER;CN="Don Shields":https://northeastwheelsevents.com/profile/D
 onShields
ATTACH;FMTTYPE="image/jpeg":https://storage.ning.com/topology/rest/1.0
 /file/get/31083582293?profile=original
ATTENDEE;ROLE=REQ-PARTICIPANT;PARTSTAT=ACCEPTED;RSVP=TRUE;CN="Don Shie
 lds":https://northeastwheelsevents.com/profile/DonShields
END:VEVENT
END:VCALENDAR
