BEGIN:VCALENDAR
PRODID:NingEventWidget-v1
VERSION:2.0
METHOD:PUBLISH
BEGIN:VEVENT
UID:5167423:Event:67818
DTSTAMP:20260420T195204Z
SUMMARY:Cool Cars in the School Yard
DESCRIPTION:Willow Grove Lions Club's thirty-fifth annual vehicle sho
 w, open to all motor vehicles. Show profits benefit the club's schola
 rship fund and our ongoing works of charity. Food, soft drinks and sna
 cks available. Awards: $100 club participation award, Top 30 trophies 
 by popular vote, best of show in stock, custom, and motorcycle classes
  selected by Lions Club Committee. Dash plaques to the first 75 regist
 rants. Awards balloting until 7:00 PM, awards ceremony at 7:30 PM. A r
 ain or shine event.\n\nFor more information visit https://northeastwhe
 elsevents.com/events/cool-cars-in-the-school-yard-2
DTSTART:20150613T183000Z
DTEND:20150614T000000Z
CATEGORIES:fundraiser
LOCATION:Hatboro, PA Area
WEBSITE:http://www.coolcarsintheschoolyard.weebly.com
URL:http://www.coolcarsintheschoolyard.weebly.com
CONTACT:215-483-7396
ORGANIZER;CN="Don Shields":https://northeastwheelsevents.com/profile/D
 onShields
ATTACH;FMTTYPE="image/jpeg":
ATTENDEE;ROLE=REQ-PARTICIPANT;PARTSTAT=ACCEPTED;RSVP=TRUE;CN="Don Shie
 lds":https://northeastwheelsevents.com/profile/DonShields
END:VEVENT
END:VCALENDAR
