BEGIN:VCALENDAR
PRODID:NingEventWidget-v1
VERSION:2.0
METHOD:PUBLISH
BEGIN:VEVENT
UID:5167423:Event:105763
DTSTAMP:20260425T121358Z
SUMMARY:Cool Cars In The School Yard
DESCRIPTION:The Willow Grove Lions Club invites you to come be a part 
 of our 36th annual vehicle show! Registration opens 2:30 PM, show time
  4:00-8:00 PM.\nShow is open to all motor vehicles. Awards: Top 30 by 
 popular vote; Best of Show in motorcycles, stock and custom cars/truck
 s selected by Lions Club Committee.Awards balloting until 6:30 PM, awa
 rds presentation at 7:00 PM. Winner or winner's delegate must be prese
 nt to receive award. Show features our own Elvis Pretzel who will ente
 rtain and emcee the awards presentation. $100.00 club participation aw
 ard. 50/50 drawing to benefit our ongoing works of charity. All show p
 rofits benefit our scholarship fund and our charitable works. Food, so
 ft drinks and snacks available.\n\nFor more information visit https://
 northeastwheelsevents.com/events/cool-cars-in-the-school-yard-3
DTSTART:20160611T183000Z
DTEND:20160611T233000Z
CATEGORIES:charity, fundraiser
LOCATION:Upper Moreland Township School Campus
WEBSITE:http://www.facebook.com/lionsclubofwillowgrove
URL:http://www.facebook.com/lionsclubofwillowgrove
CONTACT:215-327-7283
ORGANIZER:The Lions Club of Willow Grove
ATTACH;FMTTYPE="image/jpeg":
ATTENDEE;ROLE=REQ-PARTICIPANT;PARTSTAT=ACCEPTED;RSVP=TRUE;CN="Don Shie
 lds":https://northeastwheelsevents.com/profile/DonShields
END:VEVENT
END:VCALENDAR
