BEGIN:VCALENDAR
PRODID:NingEventWidget-v1
VERSION:2.0
METHOD:PUBLISH
BEGIN:VEVENT
UID:5167423:Event:143010
DTSTAMP:20260420T151306Z
SUMMARY:Cool Cars in the School Yard
DESCRIPTION:Our 37th annual vehicle show, open to all motor vehicles. 
 Registration $15.00 by June 5, $20.00 day of show. Registration opens 
 2:30 PM until 4:00 PM. Awards: Top 30 by popular vote. New this year: 
 The top vote-getter will win a top 30 #1 People's Choice trophy. The G
 ledhill Blood, Sweat and Tears trophy to be awarded by the Gledhill Fa
 mily. Best of Show awards for Motorcycles (the Smitty Memorial,) Stock
  (the Magee Memorial,) and Custom cars/trucks selected by Lions Club C
 ommittee. Awards balloting until 6:30 PM, awards ceremony commences at
  7:00 PM. Winners or Winner's delegate must be present to receive awar
 ds. $100.00 club participation award. Food and soft drinks available. 
 50/50 drawing. Dash plaques to the first 75 entrants. All profits bene
 fit our scholarship fund and our ongoing works of charity. Hope to see
  you there!\n\nFor more information visit https://northeastwheelsevent
 s.com/events/cool-cars-in-the-school-yard-4
DTSTART:20170610T183000Z
DTEND:20170611T000000Z
CATEGORIES:fundraiser
LOCATION:Upper Moreland School Campus
WEBSITE:http://Lions Club of Willow Grove Facebook Page
URL:http://Lions Club of Willow Grove Facebook Page
CONTACT:215-407-8764
ORGANIZER;CN="Don Shields":https://northeastwheelsevents.com/profile/D
 onShields
ATTACH;FMTTYPE="image/jpeg":
ATTENDEE;ROLE=REQ-PARTICIPANT;PARTSTAT=ACCEPTED;RSVP=TRUE;CN="Don Shie
 lds":https://northeastwheelsevents.com/profile/DonShields
END:VEVENT
END:VCALENDAR
