BEGIN:VCALENDAR
PRODID:NingEventWidget-v1
VERSION:2.0
METHOD:PUBLISH
BEGIN:VEVENT
UID:5167423:Event:243388
DTSTAMP:20260423T102739Z
SUMMARY:Cool Cars in the School Yard, Hatboro PA
DESCRIPTION:One of the longest-running shows in the area, the Lions Cl
 ub of Willow Grove's 39th annual vehicle show is set for Saturday, Jun
 e 8, 2019. Show site is the Upper Moreland school campus, 4000 Orangem
 ans Road, Hatboro, PA 19040. Registration opens 2:30 PM, show time 4:0
 0-8:00, awards at 7:00 PM. For further details find us on Facebook or 
 e-mail djshields@verizon.net.\n\nFor more information visit https://no
 rtheastwheelsevents.com/events/cool-cars-in-the-school-yard-6
DTSTART:20190608T183000Z
DTEND:20190609T000000Z
CATEGORIES:car, show, fundraiser
LOCATION:Upper Moreland Township School Campus
WEBSITE:
URL:
CONTACT:2154078764
ORGANIZER;CN="Don Shields":https://northeastwheelsevents.com/profile/D
 onShields
ATTACH;FMTTYPE="image/jpeg":https://storage.ning.com/topology/rest/1.0
 /file/get/2097037376?profile=original
ATTENDEE;ROLE=REQ-PARTICIPANT;PARTSTAT=ACCEPTED;RSVP=TRUE;CN="Don Shie
 lds":https://northeastwheelsevents.com/profile/DonShields
END:VEVENT
END:VCALENDAR
