BEGIN:VCALENDAR
PRODID:NingEventWidget-v1
VERSION:2.0
METHOD:PUBLISH
BEGIN:VEVENT
UID:5167423:Event:40056
DTSTAMP:20260424T042458Z
SUMMARY:CoolCars In The School Yard
DESCRIPTION:Our thirty-fourth annual car, truck & motorcycle show, ope
 n to all motor vehicles. Rain or shine. Pre-registration $12.00, day o
 f show $15.00. Awards: Top 50 by popular vote, Best of Show in Stock (
 The Magee Award), Custom (modified), and Motorcycles selected by Lions
  Club Committee. Awards ballotting 4:00-7:00 PM, awards presentation a
 t 7:30 PM. Winners or winner's delegate must be present to receive awa
 rds. Our own Elvis Pretzel will entertain and emcee the awards present
 ation. Food, snacks and soft drinks available. Pre-registration $12.00
 , day of show $15.00. Net proceeds benefit our scholarship program and
  our ongoing works of charity.\n\nFor more information visit https://n
 ortheastwheelsevents.com/events/coolcars-in-the-school-yard
DTSTART:20140614T183000Z
DTEND:20140615T000000Z
CATEGORIES:fundraiser
LOCATION:Upper Moreland Primary-Elementary-Middle School Campus
WEBSITE:http://www.coolcarsintheschoolyard.weebly.com
URL:http://www.coolcarsintheschoolyard.weebly.com
CONTACT:215-327-7283
ORGANIZER:Willow Grove Lions Club
ATTACH;FMTTYPE="image/jpeg":http://storage.ning.com/topology/rest/1.0/
 file/get/2284059551?profile=original
ATTENDEE;ROLE=REQ-PARTICIPANT;PARTSTAT=ACCEPTED;RSVP=TRUE;CN="Don Shie
 lds":https://northeastwheelsevents.com/profile/DonShields
END:VEVENT
END:VCALENDAR
