BEGIN:VCALENDAR
PRODID:NingEventWidget-v1
VERSION:2.0
METHOD:PUBLISH
BEGIN:VEVENT
UID:5167423:Event:63854
DTSTAMP:20260421T042223Z
SUMMARY:Corcorso Bizarro
DESCRIPTION:\nWe are celebrating the odd and strange part of our hobby
 .  This is not a show for trailer queens or over-the-top restorations
 .  We want to convene a group of vehicles and owners to do some tire-
 kickin' without the owners screaming about not getting to close to the
  vehicle.  The show date is a rain or shine event. Entries are $15 pr
 e-registered or day of show.  Awards (if you can call them that) will
  be given.  \n\nFor more information visit https://northeastwheelseve
 nts.com/events/corcorso-bizarro
DTSTART:20150613T140000Z
DTEND:20150613T190000Z
CATEGORIES:anti-concours, "d'elegance"
LOCATION:Rt 39 and Boathouse Rd., Hershey, PA -Behind the Hotel Hershe
 y
WEBSITE:http://www.aacamuseum.org
URL:http://www.aacamuseum.org
CONTACT:717-566-7100
ORGANIZER;CN="AACA Museum":https://northeastwheelsevents.com/profile/A
 ACAMuseum553
ATTACH;FMTTYPE="image/jpeg":
ATTENDEE;ROLE=REQ-PARTICIPANT;PARTSTAT=ACCEPTED;RSVP=TRUE;CN="AACA Mus
 eum":https://northeastwheelsevents.com/profile/AACAMuseum553
END:VEVENT
END:VCALENDAR
