BEGIN:VCALENDAR
PRODID:NingEventWidget-v1
VERSION:2.0
METHOD:PUBLISH
BEGIN:VEVENT
UID:5167423:Event:321340
DTSTAMP:20260422T035720Z
SUMMARY:Corvette Club of Delaware Valley Cruise Night
DESCRIPTION:The Corvette Club of Delaware Valley's final cruise night 
 will be held Sunday, September 17th from 5pm till dusk.  Please join 
 your friends for a fun get together with free hotdogs plus pretzels, d
 rinks, music, trophies and 50/50 drawing. \nOpen to all cars.\n\nFor 
 more information visit https://northeastwheelsevents.com/events/corvet
 te-club-of-delaware-valley-cruise-night-3
DTSTART:20230917T210000Z
DTEND:20230918T000000Z
CATEGORIES:cruise, night
LOCATION:The Shops at Valley Square
WEBSITE:http://ccdv.com
URL:http://ccdv.com
CONTACT:
ORGANIZER;CN="Barbara Pergine":https://northeastwheelsevents.com/profi
 le/BarbaraPergine
ATTACH;FMTTYPE="image/jpeg":
ATTENDEE;ROLE=REQ-PARTICIPANT;PARTSTAT=ACCEPTED;RSVP=TRUE;CN="Barbara 
 Pergine":https://northeastwheelsevents.com/profile/BarbaraPergine
END:VEVENT
END:VCALENDAR
