BEGIN:VCALENDAR
PRODID:NingEventWidget-v1
VERSION:2.0
METHOD:PUBLISH
BEGIN:VEVENT
UID:5167423:Event:816
DTSTAMP:20260423T001603Z
SUMMARY:Corvettes at Carlisle    Carlisle PA
DESCRIPTION:One of the largest and most fun-filled Corvette events in 
 the world, the annual Corvettes at Carlisle features more than 4,000 C
 orvettes representing all generations of America’s classic sports ca
 r. Corvette enthusiasm is contagious with participation in autocross, 
 dyno testing, burnouts, and the parade through historic downtown Carli
 sle.\n\nThe excitement continues with a shopping experience that is se
 cond to none, including a huge swap meet with a wide variety of vendor
 s, an all-Corvette car corral, manufacturers midway and instillation a
 lley. Join us in celebrating the red, white and blue with a 158-Corvet
 te American flag and a patriotic themed Chip’s Choice display.\n\nLi
 mited vending and car corral space still available.\n\nEvent Fees:\n\n
 Adult Admission: Th.- Sun. $14 /4-day Pass $40; Child Admission: 8 and
  under - FREE\n\nFor more information visit https://northeastwheelseve
 nts.com/events/corvettes-at-carlisle-1
DTSTART:20100827T110000Z
DTEND:20100829T230000Z
CATEGORIES:huge, swap, meet
LOCATION:Fairgrounds
WEBSITE:http://www.CarlisleEvents.com
URL:http://www.CarlisleEvents.com
CONTACT:(717) 243-7855
ORGANIZER:info@CarlisleEvents.com
ATTACH;FMTTYPE="image/jpeg":http://storage.ning.com/topology/rest/1.0/
 file/get/2146871925?profile=original
ATTENDEE;ROLE=REQ-PARTICIPANT;PARTSTAT=ACCEPTED;RSVP=TRUE;CN="Richard 
 Scott":https://northeastwheelsevents.com/profile/RichardScott
END:VEVENT
END:VCALENDAR
