BEGIN:VCALENDAR
PRODID:NingEventWidget-v1
VERSION:2.0
METHOD:PUBLISH
BEGIN:VEVENT
UID:5167423:Event:666
DTSTAMP:20260423T001604Z
SUMMARY:Corvettes at Carlisle
DESCRIPTION:The Corvettes at Carlisle show is the world’s largest Co
 rvette extravaganza and provides Corvette enthusiasts from all generat
 ions with a weekend of entertainment, education and of course the abil
 ity to drive in the famous parade. With representatives from GM onsite
  all-weekend, the excitement remains even after you leave the show.\n\
 nOnline registration is now open for the 2010 Corvettes at Carlisle ev
 ent. Pre-register and save $10! If you'd prefer, registration is also 
 available by calling our office at 717.243.7855 or you can register by
  mail by using our registration form. Please note: refunds will not be
  issued less than 19 days prior to the beginning of the event.\n\nAdul
 t Admission: Th.- Sun. $14 /4-Day Weekend Pass $40\nChild Admission: 8
  and under - FREE\nGate Times: Th.-Sa. 7am-6pm / Sun. 7am-3pm\n\nFor m
 ore information visit https://northeastwheelsevents.com/events/corvett
 es-at-carlisle
DTSTART:20100827T040000Z
DTEND:20100830T035900Z
CATEGORIES:show
LOCATION:Fair grounds
WEBSITE:http://www.carlisleevents.com/ce/events/corvettes/
URL:http://www.carlisleevents.com/ce/events/corvettes/
CONTACT:1-717-243-7855
ORGANIZER:The Corvettes at Carlisle show
ATTACH;FMTTYPE="image/jpeg":http://storage.ning.com/topology/rest/1.0/
 file/get/2284045734?profile=original
ATTENDEE;ROLE=REQ-PARTICIPANT;PARTSTAT=ACCEPTED;RSVP=TRUE;CN="wayne sc
 ott":https://northeastwheelsevents.com/profile/waynescott
END:VEVENT
END:VCALENDAR
