BEGIN:VCALENDAR
PRODID:NingEventWidget-v1
VERSION:2.0
METHOD:PUBLISH
BEGIN:VEVENT
UID:5167423:Event:668
DTSTAMP:20260423T033203Z
SUMMARY:Corvettes for a Cure Collegeville, Pa.
DESCRIPTION:2010 Date & New Location Announced!\nOur 7th annual event 
 will be held Saturday, September 18, 2010.\n\nYou can stay up to date 
 by following us on Facebook\n\n2010 Event Highlights:\nGREAT NEW LOCAT
 ION: Providence Town Center, Collegeville PA located on Route 29 immed
 iately off Route 422\nCLASSING: 1st, 2nd & 3rd place trophies in 12 cl
 asses.\nStock: C1, C2, C3, C4, C5 & C6;\nModified: C1, C2, C3, C4, C5 
 & C6\nTLC AWARD: Bring any Vette in any condition, as long as you can 
 drive it to the show, and have the chance to win gift certificates fro
 m major parts vendors\nClick here for Class Definitions\nBest of Show:
  Trophy\nBest Club Attendance: $100 to charity of their choice\nPRODUC
 T RAFFLE: Every registered participant will get one free entry and can
  select which item they would most like to win and drop their entry ti
 cket into the drawing for that item. Registrations and non-registrants
  will also have the opportunity to increase your chances of winning a 
 particular item or multiple items by purchasing additional tickets for
  $1 a piece or $20 for a \"wing-span\" of tickets! Items to be awarded
 :\nSeven Stars Inn: $25 Gift Card\nmore tba...\n\n\n2010 Event Schedul
 e:\n10:00 am - Show Begins, Registration, Parking, Clean Up\n11:30 pm 
 - Voting Begins\n1:30 pm - Voting Ends\n2:00 pm - Product Raffle Drawi
 ngs\n2:30 pm - Trophies and 50/50 Drawing\n3:00 pm - Show Ends\n\n\n20
 10 50/50 Raffle:\n50/50: Half goes to our charity, half to one lucky w
 inner\n\nOn Site Vendors:\nKim's Gold Dust - licensed Corvette and Che
 vrolet jewelry\n\n\n\nClick here for 2009 Event Summary\n\nAbout Our B
 eneficiary:\nFor more information about what you can do to help fight 
 Alzheimer's Disease, please visit www.alz.org/desjsepa.\nInformationNe
 xt Show Date\nSaturday\nSeptember 18, 2010\n\nLocation\nProvidence Tow
 n Center\nRoute 29 & Arcola Road\nCollegeville, PA 19426\n\n13 Registe
 red\nView registration list\n\nCan't make the show?\nDonate online Now
 !\nClick here!\n\n\n13 Classes\n6 Stock: C1 thru C6;\n6 Modified: C1 t
 hru C6;\n1 TLC: all generations\nBest of Show;\nBest Club Attendance;\
 n(Class Definitions)\n\n\nDownload Flyer\n\n\ne-News Signup\nSign up f
 or our Email Newsletter\n\nBecome a fan!\n\n\nEntering Your Corvette: 
 All proceeds to benefit the Delaware Valley Chapter of the Alzheimer's
  Association $20 early registration (by 8/18/2010). $25 day of show. S
 pectators welcomed! Day of show suggested donation: $5\n\nFor more inf
 ormation visit https://northeastwheelsevents.com/events/corvettes-for-
 a-cure
DTSTART:20100918T140000Z
DTEND:20100918T190000Z
CATEGORIES:benefit, delaware, valley, alzheimers, association
LOCATION:providence town center
WEBSITE:http://Visit www.CorvettesForACure.com
URL:http://Visit www.CorvettesForACure.com
CONTACT:Want to sponsor this event or have questions? Visit www.Corvet
 tesForACure.com or contact Adam Wartell by email CFAC@CorvettesForACur
 e.com or Phone 610-409-9047
ORGANIZER:Delaware Valley Chapter of the Alzheimer's Association
ATTACH;FMTTYPE="image/jpeg":http://storage.ning.com/topology/rest/1.0/
 file/get/2284045779?profile=original
ATTENDEE;ROLE=REQ-PARTICIPANT;PARTSTAT=ACCEPTED;RSVP=TRUE;CN="wayne sc
 ott":https://northeastwheelsevents.com/profile/waynescott
END:VEVENT
END:VCALENDAR
