BEGIN:VCALENDAR
PRODID:NingEventWidget-v1
VERSION:2.0
METHOD:PUBLISH
BEGIN:VEVENT
UID:5167423:Event:163241
DTSTAMP:20260423T042631Z
SUMMARY:Country Cruisers Palmyra Dairy Queen
DESCRIPTION:The Country Cruiser will hold their monthly Cruise-In this
  Sunday at the Palmyra Dairy Queen Sept. 3rd from 3-6 pm along rte 422
 . We will have door prizes, dash plaques and a 50/50 drawing. Entrance
  is by donation and we are non profit club making donations to worthwh
 ile organizations yearly. \"Rockin' Charlie\" will be playing - lets a
 ll hope for more good cruising weather.\n\nFor more information visit 
 https://northeastwheelsevents.com/events/country-cruisers-palmyra-dair
 y-queen
DTSTART:20170903T190000Z
DTEND:20170903T220000Z
CATEGORIES:cruise-in
LOCATION:Palmyra D.Q.
WEBSITE:
URL:
CONTACT:717-838-1024
ORGANIZER;CN=ken:https://northeastwheelsevents.com/profile/ken
ATTACH;FMTTYPE="image/jpeg":http://storage.ning.com/topology/rest/1.0/
 file/get/2284086537?profile=original
ATTENDEE;ROLE=REQ-PARTICIPANT;PARTSTAT=ACCEPTED;RSVP=TRUE;CN=ken:https
 ://northeastwheelsevents.com/profile/ken
END:VEVENT
END:VCALENDAR
