BEGIN:VCALENDAR
PRODID:NingEventWidget-v1
VERSION:2.0
METHOD:PUBLISH
BEGIN:VEVENT
UID:5167423:Event:188183
DTSTAMP:20260425T225612Z
SUMMARY:Countryside Tour Pittsburgh Vintage Grand Prix
DESCRIPTION:If DRIVING your classic sports car is your main passion, w
 e invite you to join us for the Countryside Tour.  Conceived and crea
 ted for classic sports & GT cars (it is a part of Pittsburgh Vintage 
 Grand Prix, after all!), the tour will depart from the Ramada Inn, in 
 the lovely and historic  town of Ligonier, PA. and follow a delightfu
 l collection of scenic, twisting, lightly-travelled back roads through
  Pennsylvania’s beautiful Laurel Highlands. Start at 9am. Earlier i
 f hot.  due to the distance from Pittsburgh, plus the special events
  planned for the night before the tour, it is HIGHLY RECOMMENDED that 
 you book a room at the inn for both Wednesday and Thursday night.\n\nF
 or more information visit https://northeastwheelsevents.com/events/cou
 ntryside-tour-pittsburgh-vintage-grand-prix
DTSTART:20180712T040000Z
DTEND:20180713T035900Z
CATEGORIES:tour
LOCATION:Ramada Inn of Ligonier
WEBSITE:http://www.pvgp.org/countryside-tour/
URL:http://www.pvgp.org/countryside-tour/
CONTACT:Bud Osbourne abcoz@hky.com
ORGANIZER:Pittsburgh Vintage Grand Prix
ATTACH;FMTTYPE="image/jpeg":http://storage.ning.com/topology/rest/1.0/
 file/get/2284105703?profile=original
ATTENDEE;ROLE=REQ-PARTICIPANT;PARTSTAT=ACCEPTED;RSVP=TRUE;CN="Car Show
 s Little Helper":https://northeastwheelsevents.com/profile/CarShowsLit
 tleHelper
END:VEVENT
END:VCALENDAR
