BEGIN:VCALENDAR
PRODID:NingEventWidget-v1
VERSION:2.0
METHOD:PUBLISH
BEGIN:VEVENT
UID:5167423:Event:60792
DTSTAMP:20260423T203118Z
SUMMARY:County Corvette 10th Annual Toy Drive
DESCRIPTION:This is a Toy Drive and Car Show to benefit the Philadelph
 ia Ronald McDonald House. It will be held on Saturday December 6th fro
 m 10:00 - 1:30 \n\nFor more information visit https://northeastwheels
 events.com/events/county-corvette-10th-annual-toy-drive
DTSTART:20141206T150000Z
DTEND:20141206T183000Z
CATEGORIES:charity, "/", benefit
LOCATION:West Chester, PA
WEBSITE:
URL:
CONTACT:610-696-78988
ORGANIZER;CN="Denny Parisan":https://northeastwheelsevents.com/profile
 /DennyParisan
ATTACH;FMTTYPE="image/jpeg":http://storage.ning.com/topology/rest/1.0/
 file/get/2284065128?profile=original
ATTENDEE;ROLE=REQ-PARTICIPANT;PARTSTAT=ACCEPTED;RSVP=TRUE;CN="Denny Pa
 risan":https://northeastwheelsevents.com/profile/DennyParisan
END:VEVENT
END:VCALENDAR
