BEGIN:VCALENDAR
PRODID:NingEventWidget-v1
VERSION:2.0
METHOD:PUBLISH
BEGIN:VEVENT
UID:5167423:Event:137703
DTSTAMP:20260424T002001Z
SUMMARY:County Corvette Toy Drive & Car Show
DESCRIPTION:County Corvette's 12th Annual Toy Drive & Fundraiser is he
 re!  This year's event is schedule for Saturday December 3rd from 10a
 m-2pm.  All toy & monetary donations go directly to the Philadelphia 
 Ronald McDonald House to support families of seriously ill children. 
   To date we have raised over $175,000 and 1000’s of toys, all than
 ks to YOU!\n\nFor more information visit https://northeastwheelsevents
 .com/events/county-corvette-toy-drive-car-show
DTSTART:20161203T150000Z
DTEND:20161203T190000Z
CATEGORIES:fundraiser
LOCATION:County Corvette
WEBSITE:https://www.google.com/maps/place/325+Westtown+Rd,+West+Cheste
 r,+PA+19382/@39.9609796,-75.5876453,17z/data=!3m1!4b1!4m5!3m4!1s0x89c6
 f16e2ddd738f:0x8b15d5a3217fac83!8m2!3d39.9609755!4d-75.5854513
URL:https://www.google.com/maps/place/325+Westtown+Rd,+West+Chester,+P
 A+19382/@39.9609796,-75.5876453,17z/data=!3m1!4b1!4m5!3m4!1s0x89c6f16e
 2ddd738f:0x8b15d5a3217fac83!8m2!3d39.9609755!4d-75.5854513
CONTACT:610-696-7888
ORGANIZER;CN="Scott McCutchen":https://northeastwheelsevents.com/profi
 le/ScottMcCutchen
ATTACH;FMTTYPE="image/jpeg":http://storage.ning.com/topology/rest/1.0/
 file/get/2284095688?profile=original
ATTENDEE;ROLE=REQ-PARTICIPANT;PARTSTAT=ACCEPTED;RSVP=TRUE;CN="Scott Mc
 Cutchen":https://northeastwheelsevents.com/profile/ScottMcCutchen
END:VEVENT
END:VCALENDAR
