BEGIN:VCALENDAR
PRODID:NingEventWidget-v1
VERSION:2.0
METHOD:PUBLISH
BEGIN:VEVENT
UID:5167423:Event:74055
DTSTAMP:20260421T072924Z
SUMMARY:County Line 4x4 Roughriders Mountain Madness
DESCRIPTION:4x4 Races on June 13 and 14, 2015\nEC4WDA sanctioned races
  for Figure 8, obstacle and drags - street drags are non-sanctioned.\n
 June 13 - figure 8 at 11 am and street drags at 6 pm\nand sanctioned 
 drags at 7 pm (approx. times)\nJune 14 - obstacle 11 am (approx. time)
 \nfor more information contact Jake at 610-298-8556\n \n\nFor more in
 formation visit https://northeastwheelsevents.com/events/county-line-4
 x4-roughriders-mountain-madness
DTSTART:20150613T040000Z
DTEND:20150615T035900Z
CATEGORIES:4x4, dirt, races
LOCATION:Kempton Community Center
WEBSITE:
URL:
CONTACT:610-298-8556
ORGANIZER;CN="Countyline 4x4 Roughriders":https://northeastwheelsevent
 s.com/profile/Countyline4x4Roughriders
ATTACH;FMTTYPE="image/jpeg":
ATTENDEE;ROLE=REQ-PARTICIPANT;PARTSTAT=ACCEPTED;RSVP=TRUE;CN="Countyli
 ne 4x4 Roughriders":https://northeastwheelsevents.com/profile/Countyli
 ne4x4Roughriders
END:VEVENT
END:VCALENDAR
