BEGIN:VCALENDAR
PRODID:NingEventWidget-v1
VERSION:2.0
METHOD:PUBLISH
BEGIN:VEVENT
UID:5167423:Event:74052
DTSTAMP:20260422T183553Z
SUMMARY:Countyline Roughriders - Go TOPLESS Ride
DESCRIPTION:Ride TOPLESS through Kutztown, PA on May 16, 2015\nRide st
 arts at 4 pm, meet at Kutztown Park, upper entrance by Grange and crui
 se through town.\nALL vehicles must be TOPLESS to participate.\nRainda
 te is May 18, 2015\nAny questons, call Reagan at 610-944-9377\n\nFor m
 ore information visit https://northeastwheelsevents.com/events/countyl
 ine-roughriders-go-topless-ride
DTSTART:20150516T200000Z
DTEND:20150516T220000Z
CATEGORIES:topless, ride, in, kutztown, pa
LOCATION:Kutztown Park
WEBSITE:
URL:
CONTACT:610-944-9377
ORGANIZER;CN="Countyline 4x4 Roughriders":https://northeastwheelsevent
 s.com/profile/Countyline4x4Roughriders
ATTACH;FMTTYPE="image/jpeg":
ATTENDEE;ROLE=REQ-PARTICIPANT;PARTSTAT=ACCEPTED;RSVP=TRUE;CN="Countyli
 ne 4x4 Roughriders":https://northeastwheelsevents.com/profile/Countyli
 ne4x4Roughriders
END:VEVENT
END:VCALENDAR
